BEGIN:VCALENDAR
VERSION:2.0
PRODID:-//Library Market//iCal Export//EN
BEGIN:VEVENT
SUMMARY:History Hounds (Virtual Program)
UID:6286
DTSTAMP:20260423T182300Z
DTSTART:20260610T230000Z
DTEND:20260611T000000Z
LOCATION:
DESCRIPTION:The Summer Capital:Mackinac and Michigan&#039;s GovernmentLive
  Zoom Program  By the time Michigan’s third Capitol was built in the 1
 870s, the Mackinac region was already a famous travel destination. In foll
 owing decades, it also became a political gathering place, forming fascina
 ting links to the state government. Join us to discover the shared heritag
 e of Michigan’s Capitol and &quot;summer capital.&quot; (NOTE: Registra
 tion for each History Hounds event closes 3 hours prior to the event time.
  Registrations completed after those times will not be processed in time f
 or live viewing of the event.)To register, go to hsmichigan.org/learn/pro
 grams/history-hounds.  Registration Instructions:Once at the History Hou
 nds website (link above), scroll down to see the &quot;Upcoming Lectures&q
 uot; and click on &quot;Read More&quot; for the particular program of inte
 rest.Register by clicking on the blue &quot;Register&quot; box.Where it as
 ks about membership, select the option that you are &quot;A member of HSM 
 member Organization&quot; and type in the Gary Byker Library name as the M
 ember Organization.The remaining information is for you to complete. Histo
 ry Hounds will use the email address you provide to send you a link to the
  program on the day of the event.Lectures are every other Wednesday at 7:0
 0 pm, with programs on the opposite Tuesdays at 12 pm noon.Note: When you 
 register for your first lecture, the Michigan Historical Society will crea
 te a free guest account for you under the email you provide and ask you to
  set up your own password. You may use this email and password to register
  for all subsequent programs.
URL:https://hudsonville.librarycalendar.com/event/history-hounds-virtual-p
 rogram-6286
END:VEVENT
END:VCALENDAR
