BEGIN:VCALENDAR
VERSION:2.0
PRODID:-//Library Market//iCal Export//EN
BEGIN:VEVENT
SUMMARY:History Hounds (Virtual Program)
UID:6285
DTSTAMP:20260425T030200Z
DTSTART:20260602T160000Z
DTEND:20260602T170000Z
LOCATION:
DESCRIPTION:A Train&#039;s Magical Journey:From Ohio to MSU, to the North 
 Pole Live Zoom Program  Hear why the Pere Marquette 1225 is rightly call
 ed “The Real Polar Express” and “The Spartan Locomotive.” One of t
 he largest steam locomotives to ever operate in Michigan, it was restored 
 by MSU students from a rusting shell to full operation and now runs in Owo
 sso, Michigan. (NOTE: Registration for each History Hounds event closes 3
  hours prior to the event time. Registrations completed after those times 
 will not be processed in time for live viewing of the event.)To register, 
 go to hsmichigan.org/learn/programs/history-hounds.  Registration Instr
 uctions:Once at the History Hounds website (link above), scroll down to se
 e the &quot;Upcoming Lectures&quot; and click on &quot;Read More&quot; for
  the particular program of interest.Register by clicking on the blue &quot
 ;Register&quot; box.Where it asks about membership, select the option that
  you are &quot;A member of HSM member Organization&quot; and type in the G
 ary Byker Library name as the Member Organization.The remaining informatio
 n is for you to complete. History Hounds will use the email address you pr
 ovide to send you a link to the program on the day of the event.Lectures a
 re every other Wednesday at 7:00 pm, with programs on the opposite Tuesday
 s at 12 pm noon.Note: When you register for your first lecture, the Michig
 an Historical Society will create a free guest account for you under the e
 mail you provide and ask you to set up your own password. You may use this
  email and password to register for all subsequent programs.
URL:https://hudsonville.librarycalendar.com/event/history-hounds-virtual-p
 rogram-6285
END:VEVENT
END:VCALENDAR
