BEGIN:VCALENDAR
VERSION:2.0
PRODID:-//Library Market//iCal Export//EN
BEGIN:VEVENT
SUMMARY:History Hounds (Virtual Program)
UID:6283
DTSTAMP:20260425T032600Z
DTSTART:20260519T160000Z
DTEND:20260519T170000Z
LOCATION:
DESCRIPTION:Battle Creek Airport:100 Years of Flight in the Cereal CityÂ L
 ive Zoom Program Â Executive Airport at Kellogg Field celebrated its cente
 nnial in 2025. Join us to learn the unique history of this airportâ€™s ser
 vice to commerce, transportation, the military and the state of Michigan.Â
  (NOTE: Registration for each History Hounds event closes 3 hours prior to
  the event time. Registrations completed after those times will not be pro
 cessed in time for live viewing of the event.)To register, go toÂ hsmichig
 an.org/learn/programs/history-hounds.Â Â Registration Instructions:Once at
  the History Hounds website (link above), scroll down to see the &quot;Upc
 oming Lectures&quot; and click on &quot;Read More&quot; for the particular
  program of interest.Register by clicking on the blue &quot;Register&quot;
  box.Where it asks about membership, select the option that you are &quot;
 A member of HSM member Organization&quot; and type in the Gary Byker Libra
 ry name as the Member Organization.The remaining information is for you to
  complete. History Hounds will use the email address you provide to send y
 ou a link to the program on the day of the event.Lectures are every other 
 Wednesday at 7:00 pm, with programs on the opposite Tuesdays at 12 pm noon
 .Note: When you register for your first lecture, the Michigan Historical S
 ociety will create a free guest account for you under the email you provid
 e and ask you to set up your own password. You may use this email and pass
 word to register for all subsequent programs.
URL:https://hudsonville.librarycalendar.com/event/history-hounds-virtual-p
 rogram-6283
END:VEVENT
END:VCALENDAR
