BEGIN:VCALENDAR
VERSION:2.0
PRODID:-//Library Market//iCal Export//EN
BEGIN:VEVENT
SUMMARY:Summer Reading Ends
UID:6175
DTSTAMP:20260425T115300Z
DTSTART:20260801T140000Z
DTEND:20260801T170000Z
LOCATION:Gary Byker Library of Hudsonville, 3338 Van Buren St, Hudsonville
 , MI 49426, United States
ROOM: Summer Reading Ends
DESCRIPTION:Thank you for participating in our summer reading program! Ple
 ase turn in all reading logs by the end of business today. 
URL:https://hudsonville.librarycalendar.com/event/summer-reading-ends-6175
END:VEVENT
END:VCALENDAR
