BEGIN:VCALENDAR
VERSION:2.0
PRODID:-//Library Market//iCal Export//EN
BEGIN:VEVENT
SUMMARY:Summer Maker Monday
UID:6119
DTSTAMP:20260423T040800Z
DTSTART:20260629T170000Z
DTEND:20260629T180000Z
LOCATION:Gary Byker Library of Hudsonville, 3338 Van Buren St, Hudsonville
 , MI 49426, United States
ROOM: Lower Level Program Room
DESCRIPTION:Hello Makers! This week, Makers can create their own prehistor
 ic world! Kids will design and build miniature dinosaur gardens using sand
 , rocks, other natural materials. Add your favorite dinosaurs and fake pla
 nts to bring your Jurassic landscape to life. Each participant will take h
 ome their completed dino garden. What would your Jurassic Park look like?Â
  Must register for this program.Â 
URL:https://hudsonville.librarycalendar.com/event/summer-maker-monday-6119
END:VEVENT
END:VCALENDAR
