BEGIN:VCALENDAR
VERSION:2.0
PRODID:-//Library Market//iCal Export//EN
BEGIN:VEVENT
SUMMARY:Summer Maker Monday
UID:6101
DTSTAMP:20260425T115300Z
DTSTART:20260622T170000Z
DTEND:20260622T180000Z
LOCATION:Gary Byker Library of Hudsonville, 3338 Van Buren St, Hudsonville
 , MI 49426, United States
ROOM: Lower Level Program Room
DESCRIPTION:Hello Makers! This week, we are painting rocks for you to hide
  around your neighborhood, the library, parks, or wherever you would like 
 to spread a little joy! If you would like to bring some special rocks to p
 aint, feel free!  The library will have stones on hand for you to paint a
 s well.  Must register for this program. 
URL:https://hudsonville.librarycalendar.com/event/summer-maker-monday-6101
END:VEVENT
END:VCALENDAR
