BEGIN:VCALENDAR
VERSION:2.0
PRODID:-//Library Market//iCal Export//EN
BEGIN:VEVENT
SUMMARY:Drop In Discovery Program - Surprise Week
UID:6078
DTSTAMP:20260425T115300Z
DTSTART:20260730T140000Z
DTEND:20260730T160000Z
LOCATION:Gary Byker Library of Hudsonville, 3338 Van Buren St, Hudsonville
 , MI 49426, United States
ROOM: Main Level Program Room
DESCRIPTION:This FINAL week: Surprise! It will be the best of the best sta
 tions, along with maybe a surprise or two. Drop in and play, explore, crea
 te, and celebrate a fun summer of discoveries.  Perfect for young explor
 ers of all ages. Drop in anytime between 10:00am and 12:00 PM - no registr
 ation needed
URL:https://hudsonville.librarycalendar.com/event/drop-discovery-program-6
 078
END:VEVENT
END:VCALENDAR
