BEGIN:VCALENDAR
VERSION:2.0
PRODID:-//Library Market//iCal Export//EN
BEGIN:VEVENT
SUMMARY:Drop In Discovery Program - Build Week!
UID:6077
DTSTAMP:20260425T115300Z
DTSTART:20260723T140000Z
DTEND:20260723T160000Z
LOCATION:Gary Byker Library of Hudsonville, 3338 Van Buren St, Hudsonville
 , MI 49426, United States
ROOM: Drop In Discovery Program - Build Week!
DESCRIPTION:Get ready to dig into a new adventure! Join us each week as we
  transform the library into a hub of hands-on exploration and fun. This w
 eek: Build All The Things! Our small program room is packed with nature st
 ations where you can: It is a building extravaganza! We will have our Leg
 os, Blue Blocks, Strawbees, and more building materials available. Lego c
 rafts  Perfect for young explorers of all ages. Drop in anytime between 
 10:00am and 12:00 PM - no registration needed
URL:https://hudsonville.librarycalendar.com/event/drop-discovery-program-6
 077
END:VEVENT
END:VCALENDAR
