BEGIN:VCALENDAR
VERSION:2.0
PRODID:-//Library Market//iCal Export//EN
BEGIN:VEVENT
SUMMARY:Drop In Discovery Program - Nature Detectives
UID:6076
DTSTAMP:20260425T032600Z
DTSTART:20260716T140000Z
DTEND:20260716T160000Z
LOCATION:Gary Byker Library of Hudsonville, 3338 Van Buren St, Hudsonville
 , MI 49426, United States
ROOM: Main Level Program Room
DESCRIPTION:Get ready to dig into a new adventure! Join us each week as we
  transform the library into a hub of hands-on exploration and fun.Â This w
 eek: ! Our small program room is packed with nature stations where you can
 :Â Animal track match.Â Binocular Bird WatchÂ Make a Suncatcher and More!Â
  Perfect for young explorers of all ages. Drop in anytime between 10:00am 
 and 12:00 PM - no registration needed
URL:https://hudsonville.librarycalendar.com/event/drop-discovery-program-6
 076
END:VEVENT
END:VCALENDAR
