BEGIN:VCALENDAR
VERSION:2.0
PRODID:-//Library Market//iCal Export//EN
BEGIN:VEVENT
SUMMARY:Drop In Discovery Program - Science
UID:6075
DTSTAMP:20260422T231900Z
DTSTART:20260709T170000Z
DTEND:20260709T190000Z
LOCATION:Gary Byker Library of Hudsonville, 3338 Van Buren St, Hudsonville
 , MI 49426, United States
ROOM: Drop In Discovery Program - Science
DESCRIPTION:Get ready to dig into a new adventure! Join us each week as we
  transform the library into a hub of hands-on exploration and fun. This w
 eek: Science Exploration! Our small program room is packed with nature sta
 tions where you can: Coffee Filter Chromatography  Build a marble run 
 Sink or float experiments and MORE! Perfect for young explorers of all ag
 es. Drop in anytime between 10:00am and 12:00 PM - no registration needed
URL:https://hudsonville.librarycalendar.com/event/drop-discovery-program-6
 075
END:VEVENT
END:VCALENDAR
