BEGIN:VCALENDAR
VERSION:2.0
PRODID:-//Library Market//iCal Export//EN
BEGIN:VEVENT
SUMMARY:Drop In Discovery Program - Nature &amp; Bugs
UID:6074
DTSTAMP:20260423T082800Z
DTSTART:20260702T140000Z
DTEND:20260702T160000Z
LOCATION:Gary Byker Library of Hudsonville, 3338 Van Buren St, Hudsonville
 , MI 49426, United States
ROOM: Main Level Program Room
DESCRIPTION:Get ready to dig into a new adventure! Join us each week as we
  transform the library into a hub of hands-on exploration and fun. This w
 eek: Creepy crawly fun! Our small program room is packed with nature stati
 ons where you can: Craft Coffee filter butterflies  Magnifying explorat
 ion station  Build a bug Perfect for young explorers of all ages. Drop 
 in anytime between 10:00am and 12:00 PM - no registration needed!
URL:https://hudsonville.librarycalendar.com/event/drop-discovery-program-6
 074
END:VEVENT
END:VCALENDAR
