BEGIN:VCALENDAR
VERSION:2.0
PRODID:-//Library Market//iCal Export//EN
BEGIN:VEVENT
SUMMARY:Drop In Discovery Program - Space Adventures
UID:6073
DTSTAMP:20260425T115300Z
DTSTART:20260625T140000Z
DTEND:20260625T160000Z
LOCATION:Gary Byker Library of Hudsonville, 3338 Van Buren St, Hudsonville
 , MI 49426, United States
ROOM: Main Level Program Room
DESCRIPTION:Get ready, blast off for adventure! Join us each week as we tr
 ansform the library into a hub of hands-on exploration and fun. This week
 : Soar into the final frontier. Our small program room is packed with spac
 e-themed stations where you can: Decorate planetsBuild a rocketship.Creat
 e star bracelets and MORE! Perfect for young explorers of all ages. Drop 
 in anytime between 10:00 am and 12:00 PM - no registration needed! 
URL:https://hudsonville.librarycalendar.com/event/drop-discovery-program-6
 073
END:VEVENT
END:VCALENDAR
