BEGIN:VCALENDAR
VERSION:2.0
PRODID:-//Library Market//iCal Export//EN
BEGIN:VEVENT
SUMMARY:Drop In Discovery Program - Ocean Explorers
UID:6072
DTSTAMP:20260425T032600Z
DTSTART:20260618T140000Z
DTEND:20260618T160000Z
LOCATION:Gary Byker Library of Hudsonville, 3338 Van Buren St, Hudsonville
 , MI 49426, United States
ROOM: Main Level Program Room
DESCRIPTION:This week: Dive deep into ocean discovery! Our small program r
 oom is packed with aquatic adventure stations where you can:  Create you
 r own jellyfish  Engineer a boat that actually floats (using mystery mat
 erials!)  Ocean Sensory Bin  Explore MORE ocean wonders. Perfect for 
 young explorers of all ages. Drop in anytime between 10:00am and 12:00 PM 
 - no registration needed! 
URL:https://hudsonville.librarycalendar.com/event/drop-discovery-program-6
 072
END:VEVENT
END:VCALENDAR
