BEGIN:VCALENDAR
VERSION:2.0
PRODID:-//Library Market//iCal Export//EN
BEGIN:VEVENT
SUMMARY:Drop In Discovery Program - Dinosaurs
UID:6071
DTSTAMP:20260424T025300Z
DTSTART:20260611T140000Z
DTEND:20260611T160000Z
LOCATION:Gary Byker Library of Hudsonville, 3338 Van Buren St, Hudsonville
 , MI 49426, United States
ROOM: Main Level Program Room
DESCRIPTION:Get ready to unearth adventure! Join us each week as we transf
 orm the library into a hub of hands-on exploration and fun. This week: It
  is a prehistoric playground! Our small program room is packed with prehis
 toric stations where you can: Craft your own fierce dinosaur mask  Dig 
 for hidden fossils like a paleontologist in our dino dig bin.Create clay i
 mpression fossils...and MORE  Perfect for young explorers of all ages. D
 rop in anytime between 10:00am and 12:00 PM - no registration needed! 
URL:https://hudsonville.librarycalendar.com/event/drop-discovery-program-6
 071
END:VEVENT
END:VCALENDAR
